BEGIN:VCALENDAR
VERSION:2.0
PRODID:-//Congrès - ECPv6.15.20//NONSGML v1.0//EN
CALSCALE:GREGORIAN
METHOD:PUBLISH
X-ORIGINAL-URL:https://www.congres.nc
X-WR-CALDESC:Évènements pour Congrès
REFRESH-INTERVAL;VALUE=DURATION:PT1H
X-Robots-Tag:noindex
X-PUBLISHED-TTL:PT1H
BEGIN:VTIMEZONE
TZID:Pacific/Noumea
BEGIN:STANDARD
TZOFFSETFROM:+1100
TZOFFSETTO:+1100
TZNAME:+11
DTSTART:20240101T000000
END:STANDARD
END:VTIMEZONE
BEGIN:VEVENT
DTSTART;TZID=Pacific/Noumea:20250403T083000
DTEND;TZID=Pacific/Noumea:20250403T100000
DTSTAMP:20260421T225511
CREATED:20250326T045617Z
LAST-MODIFIED:20250328T053819Z
UID:21424-1743669000-1743674400@www.congres.nc
SUMMARY:Commission de l’organisation administrative et de la fonction publique
DESCRIPTION:La commission de l’organisation administrative et de la fonction publique se réunira conjointement avec la commission de la santé et de la protection sociale le jeudi 03 avril 2025 à 08 heures 30 dans l’hémicycle afin d’examiner le projet de délibération modifiant la délibération n° 352 du 7 mars 2014 portant statut particulier du cadre des personnels paramédicaux de Nouvelle-Calédonie (rapport n° 83/GNC du 6.11.2024).
URL:https://www.congres.nc/event/commission-de-lorganisation-administrative-et-de-la-fonction-publique-39/
CATEGORIES:Commission
ATTACH;FMTTYPE=image/jpeg:https://www.congres.nc/wp-content/uploads/2019/06/default.jpg
END:VEVENT
BEGIN:VEVENT
DTSTART;TZID=Pacific/Noumea:20250403T083000
DTEND;TZID=Pacific/Noumea:20250403T113000
DTSTAMP:20260421T225511
CREATED:20250326T045836Z
LAST-MODIFIED:20250328T053633Z
UID:21427-1743669000-1743679800@www.congres.nc
SUMMARY:Commission de la santé et de la protection sociale
DESCRIPTION:La commission de la santé et de la protection sociale se réunira conjointement avec la commission de l’organisation administrative et de la fonction publique  la le jeudi 03 avril 2025 à 08 heures 30 dans l’hémicycle afin d’examiner le projet de délibération modifiant la délibération n° 352 du 7 mars 2014 portant statut particulier du cadre des personnels paramédicaux de Nouvelle-Calédonie (rapport n° 83/GNC du 6.11.2024). \nA l’issue\, seule : Examen des projets de textes suivants :\n-projet de délibération portant approbation de la convention constitutive du groupement d’intérêt public « Agence de régulation en santé de la Nouvelle-Calédonie – ARS-NC » (rapport n° 62/GNC du 26.07.2023).\n-projet de délibération relative au fonds autonome de compensation en santé publique (rapport n°95/GNC du 11.12.2024)\,
URL:https://www.congres.nc/event/commission-de-la-sante-et-de-la-protection-sociale-86/
CATEGORIES:Commission
ATTACH;FMTTYPE=image/jpeg:https://www.congres.nc/wp-content/uploads/2019/06/default.jpg
END:VEVENT
BEGIN:VEVENT
DTSTART;TZID=Pacific/Noumea:20250404T083000
DTEND;TZID=Pacific/Noumea:20250404T123000
DTSTAMP:20260421T225511
CREATED:20250331T224906Z
LAST-MODIFIED:20250331T224924Z
UID:21490-1743755400-1743769800@www.congres.nc
SUMMARY:Commission plénière
DESCRIPTION:Comme arrêté en conférence des présidents le 20 mars 2025\, le congrès se réunira en commission plénière ce vendredi 4 avril 2025 à 08 heures 30 dans l’hémicycle\, sur l’ordre du jour suivant : \n– Examen du projet de loi du pays portant moratoire sur l’exploration et l’exploitation des ressources minérales au sein de l’espace maritime de la Nouvelle-Calédonie (rapport n° 38/GNC du 7.06.2023) (Rapporteur spécial : Mme Magali Manuohalalo désignée lors de la séance publique du 13.12.2022)\, \n– Examen du projet de délibération portant création d’un fonds de conservation de la mer de Corail (rapport n° 82/GNC du 23.10.2024). \nCes textes font l’objet d’une demande d’examen en session extraordinaire\, formulée par arrêté n°2025-439/GNC du 19 mars 2025. \n  \n 
URL:https://www.congres.nc/event/commission-permanente-47/
CATEGORIES:Commission
ATTACH;FMTTYPE=image/jpeg:https://www.congres.nc/wp-content/uploads/2019/06/default.jpg
END:VEVENT
BEGIN:VEVENT
DTSTART;TZID=Pacific/Noumea:20250414T133000
DTEND;TZID=Pacific/Noumea:20250414T183000
DTSTAMP:20260421T225511
CREATED:20250413T224732Z
LAST-MODIFIED:20250413T224732Z
UID:21597-1744637400-1744655400@www.congres.nc
SUMMARY:Commission plénière (non publique)
DESCRIPTION:Suite à la demande formulée par le membre du gouvernement en charge du secteur de l’énergie\, le congrès se réunira en commission plénière le lundi 14 avril 2025 à 13 heures 30 dans l’hémicycle\, sur l’ordre du jour suivant :\n– Présentation par le gouvernement des deux rapports de la commission de régulation de l’énergie ;\n– Présentation par les représentants de la société ENERCAL de l’état d’avancement du projet de station de transfert d’énergie par pompage (STEP) de Tontouta ;\n– Présentation par le gouvernement des actions engagées et à venir pour l’équilibre du système électrique ;\n– Présentation par le gouvernement d’une méthode de révision du schéma de transition énergétique de la Nouvelle-Calédonie (STENC)
URL:https://www.congres.nc/event/commission-pleniere-non-publique-7/
CATEGORIES:Commission
ATTACH;FMTTYPE=image/jpeg:https://www.congres.nc/wp-content/uploads/2019/06/default.jpg
END:VEVENT
BEGIN:VEVENT
DTSTART;TZID=Pacific/Noumea:20250415T140000
DTEND;TZID=Pacific/Noumea:20250415T160000
DTSTAMP:20260421T225511
CREATED:20250403T030921Z
LAST-MODIFIED:20250403T031517Z
UID:21515-1744725600-1744732800@www.congres.nc
SUMMARY:Commission de la législation et de la réglementation générales
DESCRIPTION:La commission de la législation et de la réglementation générales se réunira le mardi 15 avril 2025 à 14 heures dans la grande salle de commissions\, afin d’examiner les projets de textes suivants : \n-projet de délibération adoptant le cahier des charges relatif à l’exploitation de l’établissement de jeux de hasard « Le Grand Casino de Nouméa » par la société en nom collectif « Casino de Nouméa » (rapport n° 02/GNC du 19.02.2025)\, \n-projet de délibération autorisant la vente de gré à gré d’une parcelle de terrain au profit de M. et Mme FITIALEATA Pélénato et Malia (rapport n° 03/GNC du 19.02.2025)\, \n-projet de délibération autorisant l’octroi d’un bail emphytéotique au profit de la société Polyanna (rapport n° 04/GNC du 19.02.2025)\, \n-projet de délibération autorisant l’octroi d’un bail emphytéotique au profit de la SARL NATURA (rapport n° 05/GNC du 5.03.2025)
URL:https://www.congres.nc/event/commission-de-la-legislation-et-de-la-reglementation-generales-84/
CATEGORIES:Commission
ATTACH;FMTTYPE=image/jpeg:https://www.congres.nc/wp-content/uploads/2019/06/default.jpg
END:VEVENT
BEGIN:VEVENT
DTSTART;TZID=Pacific/Noumea:20250416T140000
DTEND;TZID=Pacific/Noumea:20250416T170000
DTSTAMP:20260421T225511
CREATED:20250403T053456Z
LAST-MODIFIED:20250413T231927Z
UID:21530-1744812000-1744822800@www.congres.nc
SUMMARY:Commission de la législation et de la réglementation économiques et fiscales-ADDITIF
DESCRIPTION:ADDITIF- L’ordre du jour de notre commission prévu le mercredi 16 avril\n2025 à 14 heures dans la grande salle de commissions est complété par la présentation\, par l’institut de la statistique et des études économiques\, du recensement de la population. L’ordre du jour de notre réunion sera donc le suivant :\n1) À 14 heures : Présentation par l’institut de la statistique et des études économiques (ISEE) du recensement de la population. \n2) À l’issue : examen de deux propositions de lois du pays : \n-Examen de la proposition de loi du pays portant modification du code minier (partie législative) (proposition n° 137 du 07.12.2023) (Rapporteur spécial : Mme Ruffenach désignée lors de la séance publique du 28.12.2023)\, \n– Examen de la proposition de loi du pays portant modification du code minier (partie législative) (proposition n° 138 du 07.12.2023) (Rapporteur spécial : Mme Ruffenach désignée lors de la séance publique du 28.12.2023). \n \nLa commission se réunira au congrès de la Nouvelle-Calédonie\, le mercredi 16 avril 2025 à 14 heures dans la grande salle de commissions sur l’ordre du jour suivant : \n-Examen de la proposition de loi du pays portant modification du code minier (partie législative) (proposition n° 137 du 07.12.2023) (Rapporteur spécial : Mme Ruffenach désignée lors de la séance publique du 28.12.2023)\, \n– Examen de la proposition de loi du pays portant modification du code minier (partie législative) (proposition n° 138 du 07.12.2023) (Rapporteur spécial : Mme Ruffenach désignée lors de la séance publique du 28.12.2023) \n 
URL:https://www.congres.nc/event/commission-de-la-legislation-et-de-la-reglementation-economiques-et-fiscales-109/
CATEGORIES:Commission
ATTACH;FMTTYPE=image/jpeg:https://www.congres.nc/wp-content/uploads/2019/06/default.jpg
END:VEVENT
BEGIN:VEVENT
DTSTART;TZID=Pacific/Noumea:20250417T133000
DTEND;TZID=Pacific/Noumea:20250417T153000
DTSTAMP:20260421T225511
CREATED:20250411T041631Z
LAST-MODIFIED:20250413T231235Z
UID:21590-1744896600-1744903800@www.congres.nc
SUMMARY:Commission de l'organisation administrative et de la fonction publique
DESCRIPTION:La commission se réunira conjointement avec la commission de l’enseignement et de la culture au congrès de la Nouvelle-Calédonie\, le jeudi 17 avril 2025 à 13 heures 30 dans l’hémicycle\, afin d’examiner le projet de délibération portant modification des représentations des collectivités publiques au sein des établissements publics culturels de Nouvelle-Calédonie (rapport n° 25/GNC du 27.03.2024).
URL:https://www.congres.nc/event/commission-de-lorganisation-administrative-et-de-la-fonction-publique-40/
CATEGORIES:Commission
ATTACH;FMTTYPE=image/jpeg:https://www.congres.nc/wp-content/uploads/2019/06/default.jpg
END:VEVENT
BEGIN:VEVENT
DTSTART;TZID=Pacific/Noumea:20250417T133000
DTEND;TZID=Pacific/Noumea:20250417T170000
DTSTAMP:20260421T225511
CREATED:20250411T041315Z
LAST-MODIFIED:20250411T041315Z
UID:21585-1744896600-1744909200@www.congres.nc
SUMMARY:Commission de l'enseignement et de la culture
DESCRIPTION:La commission se réunira au congrès de la Nouvelle-Calédonie\, le jeudi 17 avril 2025 à 13 heures 30 dans l’hémicycle\, sur l’ordre du jour suivant : \nA 13 heures 30\, conjointement avec la commission de l’organisation administrative et de la fonction publique : examen du projet de délibération portant modification des représentations des collectivités publiques au sein des établissements publics culturels de Nouvelle-Calédonie (rapport \nn° 25/GNC du 27.03.2024). \n A l’issue seule\, examen du projet de délibération portant reconnaissance des professions artistiques de Nouvelle-Calédonie (rapport n° 16/GNC du 13.03.2024).
URL:https://www.congres.nc/event/commission-de-lenseignement-et-de-la-culture-24/
CATEGORIES:Commission
ATTACH;FMTTYPE=image/jpeg:https://www.congres.nc/wp-content/uploads/2019/06/default.jpg
END:VEVENT
BEGIN:VEVENT
DTSTART;TZID=Pacific/Noumea:20250417T140000
DTEND;TZID=Pacific/Noumea:20250417T170000
DTSTAMP:20260421T225511
CREATED:20250403T053837Z
LAST-MODIFIED:20250413T223854Z
UID:21537-1744898400-1744909200@www.congres.nc
SUMMARY:Commission de la législation et de la réglementation économiques et fiscales-ANNULEE
DESCRIPTION:MAJ – En raison de l’indisponibilité du rapporteur spécial\, la commission initialement prévue le jeudi 17 avril 2025 à 14 heures dans la grande salle de commissions est annulée. \nLa commission se réunira au congrès de la Nouvelle-Calédonie\, le jeudi 17 avril 2025 à 14 heures dans la grande salle de commissions afin d’examiner la proposition de loi du pays relative à la solidarité et à la lutte contre le gaspillage (proposition n° 170 déposée le 20.11.2024 par Messieurs Philippe Gomès\, Philippe Michel\, Philippe Dunoyer et Mesdames Magali Manuohalalo\, Emmanuelle Khac et Annie Qaeze) (Rapporteur spécial :Mme Annie Qaeze désignée lors de la séance publique du 10.12.2024).
URL:https://www.congres.nc/event/commission-de-la-legislation-et-de-la-reglementation-economiques-et-fiscales-110/
CATEGORIES:Commission
ATTACH;FMTTYPE=image/jpeg:https://www.congres.nc/wp-content/uploads/2019/06/default.jpg
END:VEVENT
BEGIN:VEVENT
DTSTART;TZID=Pacific/Noumea:20250423T140000
DTEND;TZID=Pacific/Noumea:20250423T180000
DTSTAMP:20260421T225511
CREATED:20250415T040930Z
LAST-MODIFIED:20250416T224406Z
UID:21624-1745416800-1745431200@www.congres.nc
SUMMARY:Commission plénière-ANNULEE
DESCRIPTION:ANNULATION- En raison de la conférence sociale et fiscale organisée par le gouvernement\, du 22 au 25 avril 2025 et en conséquence de l’indisponibilité de la fédération des entreprises et industries de Nouvelle-Calédonie (FEINC)\,  la commission plénière\, prévue initialement le mercredi 23 avril 2025 à 14 heures dans l’hémicycle\, est reportée à une date ultérieure. \nCONVOCATION- Dans le prolongement des travaux menés en date du 17 janvier 2025\, le congrès se réunira en commission plénière le mercredi 23 avril 2025 à 14 heures dans l’hémicycle\, afin de procéder à l’audition des représentants de la fédération des entreprises et industries de Nouvelle-Calédonie (FEINC)\, à la fois en tant qu’agence régionale des industries alimentaires (ARIA) et en tant que fédération professionnelle\, sur les risques consécutifs à l’arrêt annoncé de certaines aides sur l’ensemble des filières\, en particulier alimentaires\, suite à leur demande formulée par courriel le mardi 14 janvier 2025. \nConformément à ce qui avait été convenu lors de la commission plénière du vendredi 17 janvier\, l’ensemble des acteurs qui avaient été auditionnés à cette occasion sont conviés à la présente réunion (les représentants de la fédération nationale des syndicats d’exploitants agricoles\, les représentants de la chambre de l’agriculture et de la pêche\, les représentants de l’interprofession fruits et légumes de Nouvelle-Calédonie\, les représentants de l’interprofession viande de Nouvelle-Calédonie\, les représentants de l’office de commercialisation et d’entreposage frigorifique et les représentants de l’agence rurale de la Nouvelle-Calédonie).
URL:https://www.congres.nc/event/commission-pleniere-30/
CATEGORIES:Commission
ATTACH;FMTTYPE=image/jpeg:https://www.congres.nc/wp-content/uploads/2019/06/default.jpg
END:VEVENT
BEGIN:VEVENT
DTSTART;TZID=Pacific/Noumea:20250425T083000
DTEND;TZID=Pacific/Noumea:20250425T110000
DTSTAMP:20260421T225511
CREATED:20250418T044858Z
LAST-MODIFIED:20250418T045212Z
UID:21658-1745569800-1745578800@www.congres.nc
SUMMARY:Commission de l’enseignement et de la culture
DESCRIPTION:La commission de l’enseignement et de la culture se réunira le vendredi 25 avril 2025 à 08 heures 30 dans l’hémicycle\, afin de procéder à l’élection de son rapporteur. \nÀ l’issue\, les travaux de la commission  se poursuivront conjointement avec la commission des infrastructures publiques de l’aménagement du territoire\, du développement durable\, de l’énergie\, des transports et de la communication\, afin d’examiner le projet de délibération portant financement d’œuvres d’art dans les constructions et infrastructures publiques réalisées ou financées par la Nouvelle-Calédonie (rapport n° 17/GNC du 13.03.2024).
URL:https://www.congres.nc/event/commission-de-lenseignement-et-de-la-culture-25/
CATEGORIES:Commission
ATTACH;FMTTYPE=image/jpeg:https://www.congres.nc/wp-content/uploads/2019/06/default.jpg
END:VEVENT
BEGIN:VEVENT
DTSTART;TZID=Pacific/Noumea:20250425T084000
DTEND;TZID=Pacific/Noumea:20250425T110000
DTSTAMP:20260421T225511
CREATED:20250418T045150Z
LAST-MODIFIED:20250418T045413Z
UID:21661-1745570400-1745578800@www.congres.nc
SUMMARY:Commission des infrastructures publiques de l’aménagement du territoire\, du développement durable\, de l’énergie\, des transports et de la communication
DESCRIPTION:La commission des infrastructures publiques de l’aménagement du territoire\, du développement durable\, de l’énergie\, des transports et de la communication se réunira le vendredi 25 avril 2025 à 09 heures dans l’hémicycle\, conjointement avec la commission de l’enseignement et de la culture afin d’examiner le projet de délibération portant financement d’œuvres d’art dans les constructions et infrastructures publiques réalisées ou financées par la Nouvelle-Calédonie (rapport n° 17/GNC du 13.03.2024).
URL:https://www.congres.nc/event/commission-des-infrastructures-publiques-de-lamenagement-du-territoire-du-developpement-durable-de-lenergie-des-transports-et-de-la-communication-88/
CATEGORIES:Commission
ATTACH;FMTTYPE=image/jpeg:https://www.congres.nc/wp-content/uploads/2019/06/default.jpg
END:VEVENT
BEGIN:VEVENT
DTSTART;TZID=Pacific/Noumea:20250428T100000
DTEND;TZID=Pacific/Noumea:20250428T120000
DTSTAMP:20260421T225511
CREATED:20250425T001900Z
LAST-MODIFIED:20250425T001900Z
UID:21682-1745834400-1745841600@www.congres.nc
SUMMARY:Commission des infrastructures publiques\, de l’aménagement du territoire\, du développement durable\, de l’énergie\, des transports et de la communication
DESCRIPTION:La commission des infrastructures publiques\, de l’aménagement du territoire\, du développement durable\, de l’énergie\, des transports et de la communication se réunira  le lundi 28 avril 2025 à 10 heures dans la grande salle de commissions afin d’examiner le projet de délibération portant modification de la délibération modifiée n° 195 du 5 mars 2012 relative au système électrique de la Nouvelle-Calédonie (rapport n° 01/GNC du 12.02.2025).
URL:https://www.congres.nc/event/commission-des-infrastructures-publiques-de-lamenagement-du-territoire-du-developpement-durable-de-lenergie-des-transports-et-de-la-communication-89/
CATEGORIES:Commission
ATTACH;FMTTYPE=image/jpeg:https://www.congres.nc/wp-content/uploads/2019/06/default.jpg
END:VEVENT
END:VCALENDAR