BEGIN:VCALENDAR
VERSION:2.0
PRODID:-//Congrès - ECPv6.15.20//NONSGML v1.0//EN
CALSCALE:GREGORIAN
METHOD:PUBLISH
X-ORIGINAL-URL:https://www.congres.nc
X-WR-CALDESC:Évènements pour Congrès
REFRESH-INTERVAL;VALUE=DURATION:PT1H
X-Robots-Tag:noindex
X-PUBLISHED-TTL:PT1H
BEGIN:VTIMEZONE
TZID:Pacific/Noumea
BEGIN:STANDARD
TZOFFSETFROM:+1100
TZOFFSETTO:+1100
TZNAME:+11
DTSTART:20250101T000000
END:STANDARD
END:VTIMEZONE
BEGIN:VEVENT
DTSTART;TZID=Pacific/Noumea:20260427T133000
DTEND;TZID=Pacific/Noumea:20260427T160000
DTSTAMP:20260423T225355
CREATED:20260422T001448Z
LAST-MODIFIED:20260422T001448Z
UID:26066-1777296600-1777305600@www.congres.nc
SUMMARY:Commission de la santé et de la protection sociale
DESCRIPTION:La commission de la santé et de la protection sociale se réunira le lundi 27 avril 2026 à 13 heures 30 dans la grande salle de commissions afin d’examiner le projet de délibération portant diverses dispositions en matière sanitaire et sociale (rapport n° 79/GNC du 1.10.2025).
URL:https://www.congres.nc/event/commission-de-la-sante-et-de-la-protection-sociale-104/
CATEGORIES:Commission
ATTACH;FMTTYPE=image/jpeg:https://www.congres.nc/wp-content/uploads/2019/06/default.jpg
END:VEVENT
BEGIN:VEVENT
DTSTART;TZID=Pacific/Noumea:20260428T000000
DTEND;TZID=Pacific/Noumea:20260428T000000
DTSTAMP:20260423T225355
CREATED:20260420T052519Z
LAST-MODIFIED:20260422T232905Z
UID:26026-1777334400-1777334400@www.congres.nc
SUMMARY:Commission plénière-ANNULEE
DESCRIPTION:ANNULATION – En raison de l’indisponibilité du membre du gouvernement en charge du secteur\, la commission plénière prévue initialement le mardi 28 avril 2026 à 09 heures dans l’hémicycle\, est annulée. \n….. \nLe congrès se réunira en commission plénière le mardi 28 avril 2026 à 09 heures dans l’hémicycle\, sur l’ordre du jour suivant : \n\nExamen du projet de loi du pays favorisant l’attractivité économique et modernisant les relations entre l’administration et les entreprises (rapport n° LP-2025-DAJ-0009 du 10.12.2025) (Rapporteur spécial : M. Jean-Gabriel Favreau désigné en séance publique du 19.02.2026)\,\nExamen du projet de délibération favorisant l’attractivité économique et modernisant les relations entre l’administration et les entreprises (rapport n° DC-2025-DAJ-0010 du 10.12.2025).
URL:https://www.congres.nc/event/commission-pleniere-38/
CATEGORIES:Commission
ATTACH;FMTTYPE=image/jpeg:https://www.congres.nc/wp-content/uploads/2019/06/default.jpg
END:VEVENT
BEGIN:VEVENT
DTSTART;TZID=Pacific/Noumea:20260428T140000
DTEND;TZID=Pacific/Noumea:20260428T163000
DTSTAMP:20260423T225355
CREATED:20260419T231705Z
LAST-MODIFIED:20260419T232041Z
UID:26016-1777384800-1777393800@www.congres.nc
SUMMARY:Commission de la législation et de la réglementation économiques et fiscales
DESCRIPTION:La commission de la législation et de la réglementation économiques et fiscales se réunira conjointement avec la commission des infrastructures publiques\, de l’aménagement du territoire\, du développement durable\, de l’énergie\, des transports et de la communication\, le mardi 28 avril 2026 à 14 heures dans l’hémicycle\, sur l’ordre du jour suivant : \n1) A 14 heures : Audition des représentants de la chambre territoriale des comptes (CTC) dans le cadre de leur rapport d’observations définitives sur la gestion du fonds de soutien aux actions de lutte contre les pollutions par la Nouvelle-Calédonie concernant les exercices 2020 et suivants. \n2) Examen des projets de textes suivants :\n– projet de délibération relative au rapport d’observations définitives de la chambre territoriale des comptes (CTC) sur la gestion du fonds de soutien aux actions de lutte contre les pollutions par la Nouvelle-Calédonie concernant les exercices 2020 et suivants (rapport n° DC-2026-DIMENC-0023 du 04.03.2026);\n– rapport sur la gestion du fonds de soutien aux actions de lutte contre les pollutions pour la période 2020- 2025 (rapport n° TA-2026-DIMENC-0024 du 1.04.2026).
URL:https://www.congres.nc/event/commission-de-la-legislation-et-de-la-reglementation-economiques-et-fiscales-143/
CATEGORIES:Commission
ATTACH;FMTTYPE=image/jpeg:https://www.congres.nc/wp-content/uploads/2019/06/default.jpg
END:VEVENT
BEGIN:VEVENT
DTSTART;TZID=Pacific/Noumea:20260429T090000
DTEND;TZID=Pacific/Noumea:20260429T123000
DTSTAMP:20260423T225355
CREATED:20260420T053156Z
LAST-MODIFIED:20260420T053156Z
UID:26031-1777453200-1777465800@www.congres.nc
SUMMARY:Commission plénière
DESCRIPTION:Le congrès se réunira en commission plénière le mercredi 29 avril 2026 à 09 heures dans l’hémicycle\, sur l’ordre du jour suivant : \n\nRestitution des travaux de l’Assemblée citoyenne.\n\nPour mémoire\, le congrès de la Nouvelle-Calédonie a engagé une démarche visant à renforcer la participation directe des citoyens aux travaux de l’institution. \nA l’issue d’une étude préalable relative à la préfiguration d’un dispositif de participation citoyenne\, étude qui a été restituée aux conseillers en commission plénière le 28 octobre 2025\, le congrès a souhaité franchir une nouvelle étape en mettant en œuvre\, à titre expérimental\, une assemblée citoyenne délibérative. \nPour rappel\, cette assemblée citoyenne\, à titre expérimental\, a tenu deux sessions de travail au congrès de la Nouvelle-Calédonie : \n– Session 1 les 27 et 28 mars 2026\, \n– Session 2 les 24 et 25 avril 2026.
URL:https://www.congres.nc/event/commission-pleniere-39/
CATEGORIES:Commission
ATTACH;FMTTYPE=image/jpeg:https://www.congres.nc/wp-content/uploads/2019/06/default.jpg
END:VEVENT
BEGIN:VEVENT
DTSTART;TZID=Pacific/Noumea:20260429T140000
DTEND;TZID=Pacific/Noumea:20260429T160000
DTSTAMP:20260423T225355
CREATED:20260419T232336Z
LAST-MODIFIED:20260419T232646Z
UID:26018-1777471200-1777478400@www.congres.nc
SUMMARY:Commission des relations extérieures
DESCRIPTION:La commission des relations extérieures se réunira conjointement avec la commission des infrastructures publiques\, de l’aménagement du territoire\, du développement durable\, de l’énergie\, des transports et de la communication\, le mercredi 29 avril 2026 à 14 heures dans l’hémicycle afin d’examiner le projet de délibération approuvant l’avenant n° 2 à la convention de financement européen relative au programme européen d’appui budgétaire à la transition énergétique en Nouvelle-Calédonie pour la période 2021-2027 et habilitant le président du gouvernement à le signer (Rapport n° DC-2025- SCRRE-0007 du 10.12.2025).
URL:https://www.congres.nc/event/commission-des-relations-exterieures-33/
CATEGORIES:Commission
ATTACH;FMTTYPE=image/jpeg:https://www.congres.nc/wp-content/uploads/2019/06/default.jpg
END:VEVENT
BEGIN:VEVENT
DTSTART;TZID=Pacific/Noumea:20260429T140000
DTEND;TZID=Pacific/Noumea:20260429T170000
DTSTAMP:20260423T225355
CREATED:20260420T054448Z
LAST-MODIFIED:20260420T054505Z
UID:26036-1777471200-1777482000@www.congres.nc
SUMMARY:Commission des infrastructures publiques  de l’aménagement du territoire\,  du développement durable\, de l’énergie\, des transports et de la communication
DESCRIPTION:commission se réunira le mercredi 29 avril 2026 à 14 heures dans l’hémicycle\, sur l’ordre du jour suivant : \n\nA 14 heures\, conjointement avec la commission des relations extérieures:\n\n– Examen du projet de délibération approuvant l’avenant n° 2 à la convention de financement européen relative au programme européen d’appui budgétaire à la transition énergétique en Nouvelle-Calédonie pour la période 2021-2027 et habilitant le président du gouvernement à le signer (rapport n° DC-2025-SCRRE-0007 du 10.12.2025). \n\nA l’issue\, seule:\n\n– Examen du projet de délibération portant modification de la délibération modifiée n° 195 du 5 mars 2012 relative au système électrique de la Nouvelle-Calédonie (rapport n° DC-2026-DIMENC-0019 du 18.02.2026). \n 
URL:https://www.congres.nc/event/commission-des-infrastructures-publiques-de-lamenagement-du-territoire-du-developpement-durable-de-lenergie-des-transports-et-de-la-communication-110/
CATEGORIES:Commission
ATTACH;FMTTYPE=image/jpeg:https://www.congres.nc/wp-content/uploads/2019/06/default.jpg
END:VEVENT
BEGIN:VEVENT
DTSTART;TZID=Pacific/Noumea:20260430T140000
DTEND;TZID=Pacific/Noumea:20260430T160000
DTSTAMP:20260423T225355
CREATED:20260422T220200Z
LAST-MODIFIED:20260422T220354Z
UID:26092-1777557600-1777564800@www.congres.nc
SUMMARY:Commission de la législation et de la réglementation générales
DESCRIPTION:La commission de la législation et de la réglementation générales se réunira le jeudi 30 avril 2026 à 14 heures dans la grande salle de commissions sur l’ordre du jour suivant :\n– A 14 heures : audition du président du Tribunal de Première instance\, Monsieur Gérald FAUCOU;\n– A 14 heures 30 : audition de Maître Mary Laure MEGRAOUA GASTAUD\, Mandataire judiciaire\, accompagnée de ses confrères Virginie PESSELET (mandataire judiciaire) et Lambert MANIERE (administrateur judiciaire)\, suite à leur demande par courrier du 27 février 2026.\n– A l’issue\, examen projet de délibération modifiant le code de procédure civile de la Nouvelle-Calédonie (rapport n° DC-2026-DAJ-0018 du 11.02.2026).
URL:https://www.congres.nc/event/commission-de-la-legislation-et-de-la-reglementation-generales-113/
CATEGORIES:Commission
ATTACH;FMTTYPE=image/jpeg:https://www.congres.nc/wp-content/uploads/2019/06/default.jpg
END:VEVENT
END:VCALENDAR