BEGIN:VCALENDAR
VERSION:2.0
PRODID:-//Congrès - ECPv6.15.20//NONSGML v1.0//EN
CALSCALE:GREGORIAN
METHOD:PUBLISH
X-WR-CALNAME:Congrès
X-ORIGINAL-URL:https://www.congres.nc
X-WR-CALDESC:Évènements pour Congrès
REFRESH-INTERVAL;VALUE=DURATION:PT1H
X-Robots-Tag:noindex
X-PUBLISHED-TTL:PT1H
BEGIN:VTIMEZONE
TZID:Pacific/Noumea
BEGIN:STANDARD
TZOFFSETFROM:+1100
TZOFFSETTO:+1100
TZNAME:+11
DTSTART:20250101T000000
END:STANDARD
END:VTIMEZONE
BEGIN:VEVENT
DTSTART;TZID=Pacific/Noumea:20260423T083000
DTEND;TZID=Pacific/Noumea:20260423T123000
DTSTAMP:20260421T233241
CREATED:20260417T042314Z
LAST-MODIFIED:20260417T042314Z
UID:26003-1776933000-1776947400@www.congres.nc
SUMMARY:Séance publique
DESCRIPTION:En application des dispositions des articles 66 et 76 de la loi organique statutaire\, suite à la demande formulée par le gouvernement de la Nouvelle-Calédonie par arrêté n° AG-2026-SCAI-0348 du 15 avril 2026 déposé sur le bureau du congrès le même jour\, et après avis du bureau rendu le 16 avril 2026\, le congrès de la Nouvelle-Calédonie est convoqué en séance publique en session extraordinaire le jeudi 23 avril 2026 à 08 heures 30 dans l’hémicycle afin d’examiner le projet de délibération maintenant la garantie d’emprunt de la Nouvelle-Calédonie accordée à la compagnie Air Calédonie dans le cadre de reports d’échéances de remboursements d’emprunts de deux ans (rapport n° DC-2026-DABAF-0031 du 25.03.2026).
URL:https://www.congres.nc/event/seance-publique-183/
CATEGORIES:Séance publique
ATTACH;FMTTYPE=image/jpeg:https://www.congres.nc/wp-content/uploads/2019/06/default.jpg
END:VEVENT
BEGIN:VEVENT
DTSTART;TZID=Pacific/Noumea:20260430T083000
DTEND;TZID=Pacific/Noumea:20260430T123000
DTSTAMP:20260421T233241
CREATED:20260420T051232Z
LAST-MODIFIED:20260420T051232Z
UID:26022-1777537800-1777552200@www.congres.nc
SUMMARY:Séance publique
DESCRIPTION:En application des dispositions des articles 66 et 76 de la loi organique statutaire\, suite à la demande formulée par le gouvernement de la Nouvelle-Calédonie par arrêté n° AG-2026-SCAI-0348 du 15 avril 2026 déposé sur le bureau du congrès le même jour\, et après avis du bureau rendu le 16 avril 2026\, le congrès de la Nouvelle-Calédonie est convoqué en séance publique en session extraordinaire le jeudi 30 avril 2026 à 08 heures 30 dans l’hémicycle pour examiner les deux projets de lois du pays suivants : \n\nProjet de loi du pays portant diverses mesures en matière de concurrence (rapport n°72/GNC du 01.10.2025) (Rapporteur spécial : M. Lionnel Brinon désigné lors de la séance publique du 14.03.2025)\,\nProjet de loi du pays portant dispositions relatives à la publicité foncière et préparatoires à la mise en œuvre de la formalité fusionnée et modifiant le code civil applicable en Nouvelle-Calédonie (rapport n° LP-2025-DSF-0001 du 26.11.2025) (Rapporteur spécial : Mme Laura Vendegou désignée lors de la séance publique du 14.08.2025).
URL:https://www.congres.nc/event/seance-publique-184/
CATEGORIES:Séance publique
ATTACH;FMTTYPE=image/jpeg:https://www.congres.nc/wp-content/uploads/2019/06/default.jpg
END:VEVENT
END:VCALENDAR